BEGIN:VCALENDAR
VERSION:2.0
PRODID:DPCALENDAR
CALSCALE:GREGORIAN
BEGIN:VTIMEZONE
TZID:Europe/Berlin
X-MICROSOFT-CDO-TZID:4
BEGIN:STANDARD
DTSTART:20251026T010000
TZOFFSETFROM:+0200
TZOFFSETTO:+0100
TZNAME:CET
END:STANDARD
BEGIN:STANDARD
DTSTART:20261025T010000
TZOFFSETFROM:+0200
TZOFFSETTO:+0100
TZNAME:CET
END:STANDARD
BEGIN:DAYLIGHT
DTSTART:20260329T010000
TZOFFSETFROM:+0100
TZOFFSETTO:+0200
TZNAME:CEST
END:DAYLIGHT
END:VTIMEZONE
X-WR-TIMEZONE:Europe/Berlin
BEGIN:VEVENT
DTSTART;TZID=Europe/Berlin:20180113T134500
DTEND;TZID=Europe/Berlin:20180113T141500
UID:2E74C49F-2C4C-4E58-B250-6035D4266A58
SUMMARY:16. Mittelhessisches Rettungssymposium
CREATED:20170614T133211Z
DTSTAMP:20170614T133211Z
URL:https://drk-bewegungsprogramm.de/index.php/workshops/16-mittelhessisches-rettungssymposium.html
DESCRIPTION:Am 13. und 14. Januar 2018 findet zum 16. Mal das Mittelhessische Rettungsdienst-Symposium statt, dieses Mal in der Technischen Hochschule Mittelhessen.Am 13. und 14. Januar 2018 findet zum 16. Mal das Mittelhessische Rettungsdienst-Symposium statt, dieses Mal in der Technischen Hochschule Mittelhessen, Campus Gießen. Veranstalter ist der gemeinsame Qualitätszirkel Notfallmedizin der Landkreise Marburg-Biedenkopf und Gießen. Im Rahmen des Symposiums findet auch die Jahrestagung der Arbeitsgemeinschaft in Hessen tätiger Notärzte (AGHN) statt. 
X-ALT-DESC;FMTTYPE=text/html:<p><strong>Am 13. und 14. Januar 2018 findet zum 16. Mal das Mittelhessische Rettungsdienst-Symposium statt, dieses Mal in der Technischen Hochschule Mittelhessen.</strong></p><p>Am 13. und 14. Januar 2018 findet zum 16. Mal das Mittelhessische Rettungsdienst-Symposium statt, dieses Mal in der Technischen Hochschule Mittelhessen, Campus Gießen. Veranstalter ist der gemeinsame Qualitätszirkel Notfallmedizin der Landkreise Marburg-Biedenkopf und Gießen. Im Rahmen des Symposiums findet auch die Jahrestagung der Arbeitsgemeinschaft in Hessen tätiger Notärzte (AGHN) statt. </p>
X-ACCESS:1
X-HITS:23
X-COLOR:3366cc
X-IMAGE-FULL:http://placehold.it/660x440
X-SHOW-END-TIME:1
END:VEVENT
BEGIN:VEVENT
DTSTART;TZID=Europe/Berlin:20180211T090000
DTEND;TZID=Europe/Berlin:20180211T180000
UID:7BD469BF-820C-49CC-817E-88A57BF2AD6D
SUMMARY:Tag des Notrufs am 11. Februar
CREATED:20170502T191802Z
DTSTAMP:20170502T191802Z
URL:https://drk-bewegungsprogramm.de/index.php/workshops/tag-des-notrufs-am-11-februar.html
DESCRIPTION:Noch immer wissen viel zu wenige Menschen in Europa, welche Telefonnummer sie im Notfall wählen müssen. Um den Bekanntheitsgrad der europaweiten 112 Notrufnummer zu erhöhen, wurde der 11. März zum Europäischen Tag.\NNotruf 112\N„Leider erleben wir es in der Praxis immer wieder, dass auch Menschen im Freistaat nicht wissen, dass sie im Notfall den Notruf für Rettungsdienst und Feuerwehr europaweit wählen können“, erklärt Landesgeschäftsführer Leonhard Stärk und beruft sich auf die Beobachtungen der Mitarbeiter im Rettungsdienst. „Dabei kann die 112 lebensrettend sein. Die Nummer ist europaweit vorwahlfrei, kostenlos und wird im Funk- und Festnetz mit Vorrang behandelt, verbindet Sie mit der örtlich zuständigen Leitstelle und funktioniert in jedem Mobilfunknetz, auch wenn Ihr Netz an Ihrem aktuellen Standort gerade nicht verfügbar ist.“\NKlar ist: Wenn Menschen in Not sind, muss es schnell gehen. Doch welche Beschwerden sind ein Notfall? Stellvertretender Landesarzt Dr. med. Florian Meier: „Viele Patienten sind unsicher bei welchen Symptomen sie die 112 anrufen sollen.“ Eindeutiger Fakt: Die 112 muss gewählt werden, wenn es lebensgefährlich wird. Dazu gehören schwere Unfälle, Feuer, Vergiftungen, Schmerzen in der Brust, Störungen der Sprache, Lähmungserscheinungen, Störungen des Bewusstseins, Kreislaufkollaps, Atemnot, starker Blutverlust, starke Schmerzen und andere lebensbedrohliche Situationen.“, so Dr. Florian Meier.\NDie wesentlichen Fragen\NDie Integrierte Leitstelle für Rettungsdienst- und Feuerwehralarmierungen fragt die wichtigsten Daten ab: Was ist wo geschehen? Welche Verletzungen oder Erkrankungen liegen vor? Wer meldet den Notruf? Wer ist verletzt?  Danach sollte man nicht auflegen, sondern Rückfragen der Leitstelle abwarten. Seit 2014 sind alle Mitarbeiter der Integrierten Leitstellen darüber hinaus speziell geschult und können im Falle eines  Kreislaufstillstandes eine Reanimation durch Laienhelfer über das Notruftelefon anleiten. „Ein immenser Fortschritt, der bereits lebensrettend war und schon mehrfach erfolgreich war“, so Dr. Florian Meier.\NInsgesamt 520.000-mal wurden die Retter im vergangenen Jahr in Bayern zu Notfalleinsätzen gerufen. Und manchmal sogar ganz unabsichtlich - durch einen Fehlalarm vom Handy. Sogenannte Hosentaschenanrufe sorgen in den Leitstellen für Rettungsdienst- und Feuerwehralarmierung oft für Aufregung und Stress. . „Relativ häufig erhalten wir diese Anrufe, weil das Handy in der Hosentasche, manchmal in der Zusammenwirkung mit einem Schlüsselbund, die 112 selbst aktiviert. Dann ist niemand dran. Dennoch müssen die Mitarbeiter diesen Anrufen nachgehen  und das ist ein unnötiger und nicht unerheblicher Aufwand.“\NÄrztlicher Bereitschaftsdienst in Bayern\NIn vielen Fällen geht es nicht um Minuten, da reicht es aus den Ärztlichen Bereitschaftsdienst zu rufen. Meier: „Bei nicht lebensbedrohlichen Beschwerden hilft der Hausarzt oder- wenn dieser nicht dienstbereit ist - der Ärztliche Bereitschaftsdienst unter der Nummer 116 117, das ist die kostenfreie bundesweite Bereitschaftsdienstnummer.“\NDer Bereitschaftsdienst der Kassenärztlichen Vereinigungen ist für Patienten gedacht, die außerhalb der Sprechzeiten des Hausarztes eine dringende ambulante Behandlung benötigen – sich aber nicht in einer lebensbedrohlichen Situation befinden. Neben speziellen Bereitschaftsdienstpraxen bieten viele Kassenärztliche Vereinigungen auch einen Hausbesuchsdienst an. Meier: „Die Vermittlungsnummer 116 117 des ärztlichen Bereitschaftsdienstes ist der richtige Kontakt beispielsweise bei hohem Fieber in der Nacht oder einer akuten Magenverstimmung am Wochenende.“\NBei einem lebensbedrohenden Notfall fassen die sogenannten 5-W-Fragen die wesentlichen Inhalte eines Notrufs zusammen:\NWas ist passiert?\NJe nachdem, ob es sich um einen Unfall, ein Feuer oder eine technische Hilfeleistung handelt, werden unterschiedliche Fahrzeuge alarmiert - beim Müllcontainerbrand kommt die Feuerwehr mit einem Löschfahrzeug, bei einem Unfall oder einem Notfall zu Hause kommt der Notarzt und die Mitarbeiter des Rettungsdienstes.\NWo ist es passiert?\NHier ist die exakte Straßenbezeichnung und die Hausnummer unerlässlich, auch der Ort, in dem der Notfall passiert ist. Sonst kann es zu Verwechslungen kommen, weil im Leitstellenbereich mehrere "Hauptstraßen" oder "Bahnhofsstraßen" existieren.\NWie viele verletzte/betroffene Personen sind es?\NVom einzelnen Fußgänger bis zum vollbesetzten Bus – je nach der Anzahl der Betroffenen werden unterschiedlich viele Fahrzeuge alarmiert. Je genauer die Meldung, umso schneller kann allen geholfen werden.\NWer ruft an?\NEs ist für die Retter manchmal notwendig, wenn die Leitstelle den Anrufer nochmals kontaktieren kann.\NWarten auf Rückfragen\NJeder ist aufgeregt und angestrengt bei der Meldung eines Notrufs. Legen Sie erst auf, wenn die Leitstellenmitarbeiter sagen, dass sie alle Informationen haben.
X-ALT-DESC;FMTTYPE=text/html:<p><strong>Noch immer wissen viel zu wenige Menschen in Europa, welche Telefonnummer sie im Notfall wählen müssen. Um den Bekanntheitsgrad der europaweiten 112 Notrufnummer zu erhöhen, wurde der 11. März zum Europäischen Tag.</strong></p>\N<p><strong>Notruf 112</strong></p>\N<p>„Leider erleben wir es in der Praxis immer wieder, dass auch Menschen im Freistaat nicht wissen, dass sie im Notfall den Notruf für Rettungsdienst und Feuerwehr europaweit wählen können“, erklärt Landesgeschäftsführer Leonhard Stärk und beruft sich auf die Beobachtungen der Mitarbeiter im Rettungsdienst. „Dabei kann die 112 lebensrettend sein. Die Nummer ist europaweit vorwahlfrei, kostenlos und wird im Funk- und Festnetz mit Vorrang behandelt, verbindet Sie mit der örtlich zuständigen Leitstelle und funktioniert in jedem Mobilfunknetz, auch wenn Ihr Netz an Ihrem aktuellen Standort gerade nicht verfügbar ist.“</p>\N<p>Klar ist: Wenn Menschen in Not sind, muss es schnell gehen. Doch welche Beschwerden sind ein Notfall? Stellvertretender Landesarzt Dr. med. Florian Meier: „Viele Patienten sind unsicher bei welchen Symptomen sie die 112 anrufen sollen.“ Eindeutiger Fakt: Die 112 muss gewählt werden, wenn es lebensgefährlich wird. Dazu gehören schwere Unfälle, Feuer, Vergiftungen, Schmerzen in der Brust, Störungen der Sprache, Lähmungserscheinungen, Störungen des Bewusstseins, Kreislaufkollaps, Atemnot, starker Blutverlust, starke Schmerzen und andere lebensbedrohliche Situationen.“, so Dr. Florian Meier.</p>\N<p><strong>Die wesentlichen Fragen</strong></p>\N<p>Die Integrierte Leitstelle für Rettungsdienst- und Feuerwehralarmierungen fragt die wichtigsten Daten ab: Was ist wo geschehen? Welche Verletzungen oder Erkrankungen liegen vor? Wer meldet den Notruf? Wer ist verletzt?  Danach sollte man nicht auflegen, sondern Rückfragen der Leitstelle abwarten. Seit 2014 sind alle Mitarbeiter der Integrierten Leitstellen darüber hinaus speziell geschult und können im Falle eines  Kreislaufstillstandes eine Reanimation durch Laienhelfer über das Notruftelefon anleiten. „Ein immenser Fortschritt, der bereits lebensrettend war und schon mehrfach erfolgreich war“, so Dr. Florian Meier.</p>\N<p>Insgesamt 520.000-mal wurden die Retter im vergangenen Jahr in Bayern zu Notfalleinsätzen gerufen. Und manchmal sogar ganz unabsichtlich - durch einen Fehlalarm vom Handy. Sogenannte Hosentaschenanrufe sorgen in den Leitstellen für Rettungsdienst- und Feuerwehralarmierung oft für Aufregung und Stress. . „Relativ häufig erhalten wir diese Anrufe, weil das Handy in der Hosentasche, manchmal in der Zusammenwirkung mit einem Schlüsselbund, die 112 selbst aktiviert. Dann ist niemand dran. Dennoch müssen die Mitarbeiter diesen Anrufen nachgehen  und das ist ein unnötiger und nicht unerheblicher Aufwand.“</p>\N<p><strong>Ärztlicher Bereitschaftsdienst in Bayern</strong></p>\N<p>In vielen Fällen geht es nicht um Minuten, da reicht es aus den Ärztlichen Bereitschaftsdienst zu rufen. Meier: „Bei nicht lebensbedrohlichen Beschwerden hilft der Hausarzt oder- wenn dieser nicht dienstbereit ist - der Ärztliche Bereitschaftsdienst unter der Nummer 116 117, das ist die kostenfreie bundesweite Bereitschaftsdienstnummer.“</p>\N<p>Der Bereitschaftsdienst der Kassenärztlichen Vereinigungen ist für Patienten gedacht, die außerhalb der Sprechzeiten des Hausarztes eine dringende ambulante Behandlung benötigen – sich aber nicht in einer lebensbedrohlichen Situation befinden. Neben speziellen Bereitschaftsdienstpraxen bieten viele Kassenärztliche Vereinigungen auch einen Hausbesuchsdienst an. Meier: „Die Vermittlungsnummer 116 117 des ärztlichen Bereitschaftsdienstes ist der richtige Kontakt beispielsweise bei hohem Fieber in der Nacht oder einer akuten Magenverstimmung am Wochenende.“</p>\N<p>Bei einem lebensbedrohenden Notfall fassen die sogenannten 5-W-Fragen die wesentlichen Inhalte eines Notrufs zusammen:</p>\N<p><strong>Was ist passiert?</strong></p>\N<p>Je nachdem, ob es sich um einen Unfall, ein Feuer oder eine technische Hilfeleistung handelt, werden unterschiedliche Fahrzeuge alarmiert - beim Müllcontainerbrand kommt die Feuerwehr mit einem Löschfahrzeug, bei einem Unfall oder einem Notfall zu Hause kommt der Notarzt und die Mitarbeiter des Rettungsdienstes.</p>\N<p><strong>Wo ist es passiert?</strong></p>\N<p>Hier ist die exakte Straßenbezeichnung und die Hausnummer unerlässlich, auch der Ort, in dem der Notfall passiert ist. Sonst kann es zu Verwechslungen kommen, weil im Leitstellenbereich mehrere "Hauptstraßen" oder "Bahnhofsstraßen" existieren.</p>\N<p><strong>Wie viele verletzte/betroffene Personen sind es?</strong></p>\N<p>Vom einzelnen Fußgänger bis zum vollbesetzten Bus – je nach der Anzahl der Betroffenen werden unterschiedlich viele Fahrzeuge alarmiert. Je genauer die Meldung, umso schneller kann allen geholfen werden.</p>\N<p><strong>Wer ruft an?</strong></p>\N<p>Es ist für die Retter manchmal notwendig, wenn die Leitstelle den Anrufer nochmals kontaktieren kann.</p>\N<p><strong>Warten auf Rückfragen</strong></p>\N<p>Jeder ist aufgeregt und angestrengt bei der Meldung eines Notrufs. Legen Sie erst auf, wenn die Leitstellenmitarbeiter sagen, dass sie alle Informationen haben.</p>
LAST-MODIFIED:20170614T132901Z
SEQUENCE:3694259
X-ACCESS:1
X-HITS:110
X-COLOR:3366cc
X-IMAGE-FULL:http://placehold.it/660x440
X-SHOW-END-TIME:1
END:VEVENT
BEGIN:VEVENT
DTSTART;TZID=Europe/Berlin:20181023T084500
DTEND;TZID=Europe/Berlin:20181023T094500
RRULE:FREQ=WEEKLY;BYDAY=TU;INTERVAL=1;UNTIL=20201215T235900Z
UID:48B4D094-3891-4EE4-B050-ACC585F9B661
SUMMARY:Osteoporose-Gymnastik
CREATED:20181020T162532Z
DTSTAMP:20181020T162532Z
URL:https://drk-bewegungsprogramm.de/index.php/workshops/osteoporose-gymnastik.html
LAST-MODIFIED:20181020T164016Z
SEQUENCE:884
LOCATION:Friedensstraße 26\, 63179 Obertshausen\, Hessen
GEO:50.07639115;8.86163824
X-ROOMS:Kursraum
X-LOCATION-DISPLAYNAME:DRK-Zentrum [Kursraum]
X-ACCESS:1
X-HITS:5
X-COLOR:ff0000
X-SHOW-END-TIME:1
END:VEVENT
BEGIN:VEVENT
DTSTART;TZID=Europe/Berlin:20181023T100000
DTEND;TZID=Europe/Berlin:20181023T111500
RRULE:FREQ=WEEKLY;INTERVAL=1;UNTIL=20201215T235900Z
UID:F3E352B2-15A5-4857-A7C5-8010EA9D0EC6
SUMMARY:Denken & Bewegen
CREATED:20181020T164941Z
DTSTAMP:20181020T164941Z
URL:https://drk-bewegungsprogramm.de/index.php/workshops/denken-bewegen.html
LOCATION:Friedensstraße 26\, 63179 Obertshausen\, Hessen
GEO:50.07639115;8.86163824
X-ROOMS:Kursraum
X-LOCATION-DISPLAYNAME:DRK-Zentrum [Kursraum]
X-ACCESS:1
X-HITS:5
X-COLOR:26ff00
X-SHOW-END-TIME:1
END:VEVENT
BEGIN:VEVENT
DTSTART;TZID=Europe/Berlin:20181024T105500
DTEND;TZID=Europe/Berlin:20181024T115500
RRULE:FREQ=WEEKLY;INTERVAL=1;UNTIL=20201216T235900Z
UID:22EA44E5-CFAD-4BC7-A06E-1ABD0D9BA276
SUMMARY:Osteoporose-Gymnastik
CREATED:20181020T162906Z
DTSTAMP:20181020T162906Z
URL:https://drk-bewegungsprogramm.de/index.php/workshops/osteoporose-gymnastik-2.html
LOCATION:Friedensstraße 26\, 63179 Obertshausen\, Hessen
GEO:50.07639115;8.86163824
X-ROOMS:Kursraum
X-LOCATION-DISPLAYNAME:DRK-Zentrum [Kursraum]
X-ACCESS:1
X-HITS:5
X-COLOR:ff0000
X-SHOW-END-TIME:1
END:VEVENT
BEGIN:VEVENT
DTSTART;TZID=Europe/Berlin:20181024T120000
DTEND;TZID=Europe/Berlin:20181024T130000
RRULE:FREQ=WEEKLY;INTERVAL=1;UNTIL=20201216T235900Z
UID:6C6B9DA6-AF23-47B0-895B-D209887C679C
SUMMARY:Osteoporose-Gymnastik
CREATED:20181020T163106Z
DTSTAMP:20181020T163106Z
URL:https://drk-bewegungsprogramm.de/index.php/workshops/osteoporose-gymnastik-2.html
LOCATION:Friedensstraße 26\, 63179 Obertshausen\, Hessen
GEO:50.07639115;8.86163824
X-ROOMS:Kursraum
X-LOCATION-DISPLAYNAME:DRK-Zentrum [Kursraum]
X-ACCESS:1
X-HITS:0
X-COLOR:ff0000
X-SHOW-END-TIME:1
END:VEVENT
BEGIN:VEVENT
DTSTART;TZID=Europe/Berlin:20181024T131500
DTEND;TZID=Europe/Berlin:20181024T141500
RRULE:FREQ=WEEKLY;INTERVAL=1;UNTIL=20201216T235900Z
UID:6D54B8CC-B285-45F6-BB51-8A6B102A80CB
SUMMARY:Osteoporose-Gymnastik
CREATED:20181020T163305Z
DTSTAMP:20181020T163305Z
URL:https://drk-bewegungsprogramm.de/index.php/workshops/osteoporose-gymnastik-2.html
LOCATION:Friedensstraße 26\, 63179 Obertshausen\, Hessen
GEO:50.07639115;8.86163824
X-ROOMS:Kursraum
X-LOCATION-DISPLAYNAME:DRK-Zentrum [Kursraum]
X-ACCESS:1
X-HITS:0
X-COLOR:ff0000
X-SHOW-END-TIME:1
END:VEVENT
BEGIN:VEVENT
DTSTART;TZID=Europe/Berlin:20241111T101500
DTEND;TZID=Europe/Berlin:20241111T110000
UID:B9C5BFCB-8766-4957-801A-1CD5715B3871
SUMMARY:WS Venengymnastik
CREATED:20241015T195937Z
DTSTAMP:20241015T195937Z
URL:https://drk-bewegungsprogramm.de/index.php/workshops/ws-venengymnastik.html
DESCRIPTION:Auch Venenpatienten können durch Gymnastik die Venentätigkeit in Schwung bringen und dazu beitragen, ihr Venensystem zu unterstützen. \NDurch Bewegung wird die Muskel- bzw. Venenpumpe aktiviert und der Blutkreislauf unterstützt. Durch das ständige An- und Entspannen der Muskeln, während wir uns bewegen, werden die Venen immer wieder komprimiert und der Rückfluss des Blutes wird unterstützt.\NBei sommerlichen Temperaturen klagen viele über schwere und geschwollene Beine. Mit gezielten Übungen erreicht man mehr Leichtigkeit in Beinen und Füßen.\NBitte mitbringen: Handtuch, etwas zu Trinken
X-ALT-DESC;FMTTYPE=text/html:<p>Auch Venenpatienten können durch Gymnastik die Venentätigkeit in Schwung bringen und dazu beitragen, ihr Venensystem zu unterstützen.&nbsp;</p>\N<p>Durch Bewegung wird die Muskel- bzw. Venenpumpe aktiviert und der Blutkreislauf unterstützt. Durch das ständige An- und Entspannen der Muskeln, während wir uns bewegen, werden die Venen immer wieder komprimiert und der Rückfluss des Blutes wird unterstützt.</p>\N<p>Bei sommerlichen Temperaturen klagen viele über schwere und geschwollene Beine. Mit gezielten Übungen erreicht man mehr Leichtigkeit in Beinen und Füßen.</p>\N<p>Bitte mitbringen: Handtuch, etwas zu Trinken</p>
LAST-MODIFIED:20241015T195937Z
SEQUENCE:0
LOCATION:Friedensstraße 26\, 63179 Obertshausen\, Hessen
GEO:50.07639115;8.86163824
X-ROOMS:Kursraum
X-LOCATION-DISPLAYNAME:DRK-Zentrum [Kursraum]
X-ACCESS:1
X-HITS:58
X-COLOR:3366cc
X-SHOW-END-TIME:1
END:VEVENT
END:VCALENDAR